BEGIN:VCALENDAR
VERSION:2.0
PRODID:-//lindavogt-beratung.de - ECPv6.15.12.2//NONSGML v1.0//EN
CALSCALE:GREGORIAN
METHOD:PUBLISH
X-ORIGINAL-URL:https://lindavogt-beratung.de
X-WR-CALDESC:Veranstaltungen für lindavogt-beratung.de
REFRESH-INTERVAL;VALUE=DURATION:PT1H
X-Robots-Tag:noindex
X-PUBLISHED-TTL:PT1H
BEGIN:VTIMEZONE
TZID:Europe/Berlin
BEGIN:DAYLIGHT
TZOFFSETFROM:+0100
TZOFFSETTO:+0200
TZNAME:CEST
DTSTART:20240331T010000
END:DAYLIGHT
BEGIN:STANDARD
TZOFFSETFROM:+0200
TZOFFSETTO:+0100
TZNAME:CET
DTSTART:20241027T010000
END:STANDARD
BEGIN:DAYLIGHT
TZOFFSETFROM:+0100
TZOFFSETTO:+0200
TZNAME:CEST
DTSTART:20250330T010000
END:DAYLIGHT
BEGIN:STANDARD
TZOFFSETFROM:+0200
TZOFFSETTO:+0100
TZNAME:CET
DTSTART:20251026T010000
END:STANDARD
BEGIN:DAYLIGHT
TZOFFSETFROM:+0100
TZOFFSETTO:+0200
TZNAME:CEST
DTSTART:20260329T010000
END:DAYLIGHT
BEGIN:STANDARD
TZOFFSETFROM:+0200
TZOFFSETTO:+0100
TZNAME:CET
DTSTART:20261025T010000
END:STANDARD
END:VTIMEZONE
BEGIN:VEVENT
DTSTART;TZID=Europe/Berlin:20251004T180000
DTEND;TZID=Europe/Berlin:20251004T210000
DTSTAMP:20260421T121400
CREATED:20250910T064805Z
LAST-MODIFIED:20250910T065122Z
UID:2911-1759600800-1759611600@lindavogt-beratung.de
SUMMARY:Kreativ Workshop
DESCRIPTION:In achtsamer\, liebevoller Atmosphäre gestaltest du dein individuelles Schmuckstück. \n\n\n\nWas dich erwartet: \n\n\n\n\nEine kurze Einstimmung mit Achtsamkeits- oder Meditationsübungen\n\n\n\nEinführung in den Aufbau deines Schmuckstücks\n\n\n\nFreies Gestalten mit einer Auswahl an Perlen\, Bändern und Anhängern\n\n\n\nZeit und Raum für dich und deine Kreativität\n\n\n\nAustausch mit Anderen\n\n\n\nEin ruhiger Abschlussmoment in Dankbarkeit\n\n\n\n\nKosten: 33€ inkl. Material\, Snacks und Getränken \n\n\n\n\n\nFür wen? Dieser Abend ist für alle gedacht\, die sich eine kreative Auszeit wünschen\, Lust haben\, etwas mit ihren Händen zu erschaffen und in entspannter Runde einen schönen Abend zu genießen und dabei zur Ruhe zu kommen. \n\n\n\nSicher dir jetzt einen Platz.Von Herz zu HerzLinda \n\n\n\n\nJetzt anmelden
URL:https://lindavogt-beratung.de/event/kreativ-workshop/
LOCATION:Im Wiehl\, Im Wiehl 38\, Bad Münder\, 31848\, Germany
ATTACH;FMTTYPE=image/jpeg:https://lindavogt-beratung.de/wp-content/uploads/2025/09/kreativ-WORKSHOP.jpg
END:VEVENT
BEGIN:VEVENT
DTSTART;TZID=Europe/Berlin:20250926T190000
DTEND;TZID=Europe/Berlin:20250926T220000
DTSTAMP:20260421T121400
CREATED:20250910T063320Z
LAST-MODIFIED:20250910T065141Z
UID:2905-1758913200-1758924000@lindavogt-beratung.de
SUMMARY:Frauenkreis
DESCRIPTION:Gemeinsam tauchen wir ein in einen Abend voller Achtsamkeit\, Stille und wertschätzendem Austausch. \n\n\n\nDich erwarten geführte Meditationen\, Orakelkarten zur Inspiration\, sanfte Rituale (wie Kakaozeremonien\, Räuchern) und wohltuende Impulse für dein persönliches Wachstum. \n\n\n\nBring gerne bequeme Kleidung und warme Socken mit. Du brauchst keinerlei Vorkenntnisse – nur dich und die Bereitschaft\, dir selbst zu begegnen. Ich freue mich darauf\, mit dir und anderen wunderbaren Frauen einen Abend voller Tiefe und Leichtigkeit zu gestalten. \n\n\n\nEnergieausgleich: 24€ \n\n\n\n\n\nSicher dir jetzt einen Platz.Von Herz zu HerzLinda \n\n\n\n\nJetzt anmelden
URL:https://lindavogt-beratung.de/event/frauenkreis/
LOCATION:Im Wiehl\, Im Wiehl 38\, Bad Münder\, 31848\, Germany
ATTACH;FMTTYPE=image/jpeg:https://lindavogt-beratung.de/wp-content/uploads/2025/09/Frauenkreis.jpg
END:VEVENT
BEGIN:VEVENT
DTSTART;TZID=Europe/Berlin:20250919T180000
DTEND;TZID=Europe/Berlin:20250919T210000
DTSTAMP:20260421T121400
CREATED:20250706T114628Z
LAST-MODIFIED:20250910T060152Z
UID:2885-1758304800-1758315600@lindavogt-beratung.de
SUMMARY:Mala Workshop
DESCRIPTION:Tauche ein in einen Abend der Verbindung\, Kreativität und inneren Ruhe.Gemeinsam gestalten wir unsere ganz persönliche Mala (Meditationskette) – ein liebevolles Ritual aus Perlen\, Intuition und Verbundenheit. \n\n\n\nWas dich erwartet: \n\n\n\n\nEinführung zu der Bedeutung & Geschichte der Mala\n\n\n\nAuswahl deiner Perlen (u. A. Amethyst\, Lavastein\, Rosenquarz)\n\n\n\nAchtsames Fädeln und Binden von Perlen & Quaste\n\n\n\nKreatives Gestalten\, Meditation & kleine Impulse\n\n\n\n\nKostenbeitrag: 59 € inkl. Material\, Snacks & TeeTeilnehmerzahl: Maximal 8 Frauen \n\n\n\n\n\nFür wen? Dieser Abend ist für Frauen gedacht\, die sich nach einer bewussten\, kreativen Auszeit sehnen – und in liebevoller Runde etwas Eigenes erschaffen möchten. \n\n\n\nSicher dir jetzt einen Platz.Von Herz zu HerzLinda \n\n\n\n\n\n\n\n\nJetzt anmelden
URL:https://lindavogt-beratung.de/event/mala-workshop/
LOCATION:Im Wiehl\, Im Wiehl 38\, Bad Münder\, 31848\, Germany
ATTACH;FMTTYPE=image/jpeg:https://lindavogt-beratung.de/wp-content/uploads/2025/07/MALA-WORKSHOP.jpg
END:VEVENT
END:VCALENDAR